BEGIN:VCALENDAR
VERSION:2.0
PRODID:-//Mid-Town Parish - ECPv5.9.1//NONSGML v1.0//EN
CALSCALE:GREGORIAN
METHOD:PUBLISH
X-WR-CALNAME:Mid-Town Parish
X-ORIGINAL-URL:http://midtownparish.org
X-WR-CALDESC:Events for Mid-Town Parish
BEGIN:VTIMEZONE
TZID:UTC
BEGIN:STANDARD
TZOFFSETFROM:+0000
TZOFFSETTO:+0000
TZNAME:UTC
DTSTART:20210101T000000
END:STANDARD
END:VTIMEZONE
BEGIN:VEVENT
DTSTART;TZID=UTC:20210221T100000
DTEND;TZID=UTC:20210221T120000
DTSTAMP:20260419T194118
CREATED:20201112T034339Z
LAST-MODIFIED:20210214T212056Z
UID:27486-1613901600-1613908800@midtownparish.org
SUMMARY:Sunday Worship
DESCRIPTION:We invite all to worship with us via Zoom.  The Word of God tells us to not forsake the assembly of the righteous. We must come together to edify and encourage one another. Join us as we praise the Lord and hear the Word of God! \nFacebook Link:  https://www.facebook.com/Midtown-Parish-United-Methodist-Church-101604573211181
URL:http://midtownparish.org/event/worship/
ATTACH;FMTTYPE=image/jpeg:http://midtownparish.org/wp-content/uploads/2020/11/PastorTerryBridges.jpg
END:VEVENT
END:VCALENDAR